BEGIN:VCALENDAR
VERSION:2.0
PRODID:-//Choir 86 - ECPv6.0.12//NONSGML v1.0//EN
CALSCALE:GREGORIAN
METHOD:PUBLISH
X-ORIGINAL-URL:http://www.choir86.co.uk
X-WR-CALDESC:Events for Choir 86
REFRESH-INTERVAL;VALUE=DURATION:PT1H
X-Robots-Tag:noindex
X-PUBLISHED-TTL:PT1H
BEGIN:VTIMEZONE
TZID:UTC
BEGIN:STANDARD
TZOFFSETFROM:+0000
TZOFFSETTO:+0000
TZNAME:UTC
DTSTART:20190101T000000
END:STANDARD
END:VTIMEZONE
BEGIN:VEVENT
DTSTART;TZID=UTC:20190714T153000
DTEND;TZID=UTC:20190714T173000
DTSTAMP:20260420T125822
CREATED:20190706T094717Z
LAST-MODIFIED:20190706T094717Z
UID:948-1563118200-1563125400@www.choir86.co.uk
SUMMARY:Show Stoppers
DESCRIPTION:Our final performance of Show Stoppers\, not to be missed\, come along to Furrough Cross URC Church Hall\, Babbacombe Torquay for an afternoon of musical delight.
URL:http://www.choir86.co.uk/event/show-stoppers-3/
LOCATION:Furrough Cross URC\, Babbacombe Road\, Babbacombe\, Torquay\, Devon\, TQ1 3SB\, United Kingdom
ORGANIZER;CN="Choir%2086":MAILTO:contact@choir86.co.uk
END:VEVENT
END:VCALENDAR