BEGIN:VCALENDAR
VERSION:2.0
PRODID:-//Choir 86 - ECPv6.0.12//NONSGML v1.0//EN
CALSCALE:GREGORIAN
METHOD:PUBLISH
X-ORIGINAL-URL:http://www.choir86.co.uk
X-WR-CALDESC:Events for Choir 86
REFRESH-INTERVAL;VALUE=DURATION:PT1H
X-Robots-Tag:noindex
X-PUBLISHED-TTL:PT1H
BEGIN:VTIMEZONE
TZID:UTC
BEGIN:STANDARD
TZOFFSETFROM:+0000
TZOFFSETTO:+0000
TZNAME:UTC
DTSTART:20220101T000000
END:STANDARD
END:VTIMEZONE
BEGIN:VEVENT
DTSTART;TZID=UTC:20221210T193000
DTEND;TZID=UTC:20221210T193000
DTSTAMP:20260419T220410
CREATED:20221117T200859Z
LAST-MODIFIED:20221117T200859Z
UID:1046-1670700600-1670700600@www.choir86.co.uk
SUMMARY:Wolcum Yole!
DESCRIPTION:It all stats here with Choir 86\, come and enjoy singing along to your favourite carols\, listen to some sparkling yuletide music\, all to put you in the mood for the Christmas Festivities.  Join us at The Avenue Church\, Newton Abbot on Saturday 10th December.     Advance tickets available from:    https://www.ticketsource.co.uk/choir86
URL:http://www.choir86.co.uk/event/wolcum-yole/
LOCATION:The Avenue Church\, The Avenue\, Newton Abbot\, Devon\, TQ12 2BY\, United Kingdom
ORGANIZER;CN="Choir%2086":MAILTO:contact@choir86.co.uk
END:VEVENT
BEGIN:VEVENT
DTSTART;TZID=UTC:20230330T193000
DTEND;TZID=UTC:20230330T213000
DTSTAMP:20260419T220410
CREATED:20230228T181137Z
LAST-MODIFIED:20230228T181137Z
UID:1074-1680204600-1680211800@www.choir86.co.uk
SUMMARY:"Glory\, Hallelujah!"
DESCRIPTION:Glory\, Hallelujah – Kingskerswell – pdf \nAdvance tickets available via www.ticketsource.co.uk/choir86
URL:http://www.choir86.co.uk/event/glory-hallelujah/
LOCATION:St Josesph’s RC Church\, Queen Street\, Newton Abbot\, Devon\, United Kingdom
ORGANIZER;CN="Choir%2086":MAILTO:contact@choir86.co.uk
END:VEVENT
BEGIN:VEVENT
DTSTART;TZID=UTC:20231209T190000
DTEND;TZID=UTC:20231209T210000
DTSTAMP:20260419T220410
CREATED:20231108T100407Z
LAST-MODIFIED:20231108T100451Z
UID:1110-1702148400-1702155600@www.choir86.co.uk
SUMMARY:Christmas Concerts 2023- Follow That Star
DESCRIPTION:Choir 86 are delighted to announce their Christmas concerts for 2023. \nThe programme will be a mix of your festive favourites\, as well as some unique pieces to ensure you’re feeling the spirit of Christmas! \nTickets: Adults £6\, Seniors/NHS/Students £5 \nDate: December 9th 2023 \nLocation: The Courtenay Centre\, Kingsteignton Road\, Newton Abbot\, TQ12 2QA \nTime: Doors open at 6.30pm\, concert begins at 7pm. \nTickets available via www.ticketsource.co.uk/choir86
URL:http://www.choir86.co.uk/event/christmas-concerts-2023-follow-that-star-2/
LOCATION:The Courtenay Centre\, Newton Abbot\, The Courtenay Centre\, Newton Abbot\, TQ12 2QA\, United Kingdom
ORGANIZER;CN="Choir%2086":MAILTO:contact@choir86.co.uk
END:VEVENT
BEGIN:VEVENT
DTSTART;TZID=UTC:20240319T190000
DTEND;TZID=UTC:20240319T210000
DTSTAMP:20260419T220411
CREATED:20240301T155524Z
LAST-MODIFIED:20240301T160744Z
UID:1175-1710874800-1710882000@www.choir86.co.uk
SUMMARY:Choir 86's Spring Into Easter
DESCRIPTION:Choir 86 will be performing their Easter concert – Spring Into Easter! \nThe programme includes a regional premiere of Dan Forrest’s ‘Requiem for the Living’ \nTUESDAY 19TH MARCH 7PM\, St Mary’s Church Kingskerswell TQ12 5LD \nTHURSDAY 21ST MARCH 7PM\, St Joseph’s Catholic Church TQ12 2ET \nTickets available on the door or via ticketsource.co.uk/choir86 \nFor more information\, and teasers\, see our Choir 86 Facebook page. \n 
URL:http://www.choir86.co.uk/event/1175/
LOCATION:St Mary’s Church\, Kingskerswell\, St Mary's Church\, Kingskerswell\, TQ12 5LD
END:VEVENT
BEGIN:VEVENT
DTSTART;TZID=UTC:20250718T193000
DTEND;TZID=UTC:20250718T213000
DTSTAMP:20260419T220411
CREATED:20250520T210504Z
LAST-MODIFIED:20250524T150617Z
UID:1225-1752867000-1752874200@www.choir86.co.uk
SUMMARY:Sounds of Summer
DESCRIPTION:
URL:http://www.choir86.co.uk/event/sounds-of-summer/
LOCATION:Kingsteighton Community Hall\, Rydon Road\, Kingsteignton\, TQ12 3LP\, United Kingdom
END:VEVENT
BEGIN:VEVENT
DTSTART;TZID=UTC:20251124T080000
DTEND;TZID=UTC:20251124T170000
DTSTAMP:20260419T220411
CREATED:20251124T211755Z
LAST-MODIFIED:20251124T211755Z
UID:1244-1763971200-1764003600@www.choir86.co.uk
SUMMARY:Here Comes Christmas!
DESCRIPTION:Join us for one of our upcoming concerts.
URL:http://www.choir86.co.uk/event/here-comes-christmas/
END:VEVENT
END:VCALENDAR