BEGIN:VCALENDAR
VERSION:2.0
PRODID:-//Choir 86 - ECPv6.0.12//NONSGML v1.0//EN
CALSCALE:GREGORIAN
METHOD:PUBLISH
X-ORIGINAL-URL:http://www.choir86.co.uk
X-WR-CALDESC:Events for Choir 86
REFRESH-INTERVAL;VALUE=DURATION:PT1H
X-Robots-Tag:noindex
X-PUBLISHED-TTL:PT1H
BEGIN:VTIMEZONE
TZID:UTC
BEGIN:STANDARD
TZOFFSETFROM:+0000
TZOFFSETTO:+0000
TZNAME:UTC
DTSTART:20180101T000000
END:STANDARD
END:VTIMEZONE
BEGIN:VEVENT
DTSTART;TZID=UTC:20181208T193000
DTEND;TZID=UTC:20181208T210000
DTSTAMP:20260420T212731
CREATED:20181121T184315Z
LAST-MODIFIED:20181121T184315Z
UID:875-1544297400-1544302800@www.choir86.co.uk
SUMMARY:Christmas for Kingscare
DESCRIPTION:Choir 86 are delighted to be supporting Kingscare in this fund raising event along with Spectrum Music. \n 
URL:http://www.choir86.co.uk/event/christmas-for-kingscare/
LOCATION:Avenue Methodist and URC Church\, The Avneue\, Newton Abbot\, Devon\, TQ12 2BY\, United Kingdom
ORGANIZER;CN="Choir%2086":MAILTO:contact@choir86.co.uk
END:VEVENT
BEGIN:VEVENT
DTSTART;TZID=UTC:20181210T193000
DTEND;TZID=UTC:20181210T210000
DTSTAMP:20260420T212731
CREATED:20181118T121142Z
LAST-MODIFIED:20181202T171115Z
UID:862-1544470200-1544475600@www.choir86.co.uk
SUMMARY:Christmas Around the World
DESCRIPTION:Christmas around the World – revised venue pdf \nDue to circumstances beyond our control\, it has been necessary to change the venue for our concert on Monday 10th December.   This will now take place at St Pauls Church\, Devon Square\, Newton Abbot.   Any tickets previously purchase will be honoured at the new venue. \nTickets will also be available on the door.
URL:http://www.choir86.co.uk/event/christmas-around-the-world/
LOCATION:St Pauls Church\, Devon Square\, Newton Abbot\, United Kingdom
ORGANIZER;CN="Choir%2086":MAILTO:contact@choir86.co.uk
END:VEVENT
BEGIN:VEVENT
DTSTART;TZID=UTC:20181215T160000
DTEND;TZID=UTC:20181215T173000
DTSTAMP:20260420T212731
CREATED:20181118T121803Z
LAST-MODIFIED:20181121T181038Z
UID:867-1544889600-1544895000@www.choir86.co.uk
SUMMARY:Christmas Around the World
DESCRIPTION:Join us at Furrough Cross URC\, Babbacombe for a trip around the world ! \nLight refreshments will be served.
URL:http://www.choir86.co.uk/event/867/
LOCATION:Furrough Cross URC\, Babbacombe Road\, Babbacombe\, Torquay\, Devon\, TQ1 3SB\, United Kingdom
ORGANIZER;CN="Choir%2086":MAILTO:contact@choir86.co.uk
END:VEVENT
END:VCALENDAR