BEGIN:VCALENDAR
VERSION:2.0
PRODID:-//Choir 86 - ECPv6.0.12//NONSGML v1.0//EN
CALSCALE:GREGORIAN
METHOD:PUBLISH
X-ORIGINAL-URL:http://www.choir86.co.uk
X-WR-CALDESC:Events for Choir 86
REFRESH-INTERVAL;VALUE=DURATION:PT1H
X-Robots-Tag:noindex
X-PUBLISHED-TTL:PT1H
BEGIN:VTIMEZONE
TZID:UTC
BEGIN:STANDARD
TZOFFSETFROM:+0000
TZOFFSETTO:+0000
TZNAME:UTC
DTSTART:20230101T000000
END:STANDARD
END:VTIMEZONE
BEGIN:VEVENT
DTSTART;TZID=UTC:20231209T190000
DTEND;TZID=UTC:20231209T210000
DTSTAMP:20260420T023624
CREATED:20231108T100407Z
LAST-MODIFIED:20231108T100451Z
UID:1110-1702148400-1702155600@www.choir86.co.uk
SUMMARY:Christmas Concerts 2023- Follow That Star
DESCRIPTION:Choir 86 are delighted to announce their Christmas concerts for 2023. \nThe programme will be a mix of your festive favourites\, as well as some unique pieces to ensure you’re feeling the spirit of Christmas! \nTickets: Adults £6\, Seniors/NHS/Students £5 \nDate: December 9th 2023 \nLocation: The Courtenay Centre\, Kingsteignton Road\, Newton Abbot\, TQ12 2QA \nTime: Doors open at 6.30pm\, concert begins at 7pm. \nTickets available via www.ticketsource.co.uk/choir86
URL:http://www.choir86.co.uk/event/christmas-concerts-2023-follow-that-star-2/
LOCATION:The Courtenay Centre\, Newton Abbot\, The Courtenay Centre\, Newton Abbot\, TQ12 2QA\, United Kingdom
ORGANIZER;CN="Choir%2086":MAILTO:contact@choir86.co.uk
END:VEVENT
END:VCALENDAR